BEGIN:VCALENDAR
VERSION:2.0
PRODID:-//Department Of Education//4602d810-6e70-4990-ba7a-1292d2fb973c
BEGIN:VTIMEZONE
TZID:Australia/Sydney
TZURL:http://tzurl.org/zoneinfo-outlook/Australia/Sydney
X-LIC-LOCATION:Australia/Sydney
BEGIN:STANDARD
TZOFFSETFROM:+1100
TZOFFSETTO:+1000
TZNAME:AEST
DTSTART:19700405T030000
RRULE:FREQ=YEARLY;BYMONTH=4;BYDAY=1SU
END:STANDARD
BEGIN:DAYLIGHT
TZOFFSETFROM:+1000
TZOFFSETTO:+1100
TZNAME:AEDT
DTSTART:19701004T020000
RRULE:FREQ=YEARLY;BYMONTH=10;BYDAY=1SU
END:DAYLIGHT
END:VTIMEZONE
CALSCALE:GREGORIAN
X-WR-TIMEZONE:Australia/Sydney
BEGIN:VEVENT
DTSTART;TZID=Australia/Sydney:20131212T090000
DTEND;TZID=Australia/Sydney:20131212T150000
DTSTAMP:20131212T090000Z
UID:0bc6d964-2491-46e2-a504-9a42af337c03
LOCATION:
SUMMARY;LANGUAGE=en-us:K-6 School Day Out
SEQUENCE:0
DESCRIPTION:Woolgoolga Public Swimming Pool
END:VEVENT
TRANSP:TRANSPARENT
END:VCALENDAR
