BEGIN:VCALENDAR
VERSION:2.0
PRODID:-//Department Of Education//2e69006b-8d6e-4fdf-be68-ac5ce89e68c2
BEGIN:VTIMEZONE
TZID:Australia/Sydney
TZURL:http://tzurl.org/zoneinfo-outlook/Australia/Sydney
X-LIC-LOCATION:Australia/Sydney
BEGIN:STANDARD
TZOFFSETFROM:+1100
TZOFFSETTO:+1000
TZNAME:AEST
DTSTART:19700405T030000
RRULE:FREQ=YEARLY;BYMONTH=4;BYDAY=1SU
END:STANDARD
BEGIN:DAYLIGHT
TZOFFSETFROM:+1000
TZOFFSETTO:+1100
TZNAME:AEDT
DTSTART:19701004T020000
RRULE:FREQ=YEARLY;BYMONTH=10;BYDAY=1SU
END:DAYLIGHT
END:VTIMEZONE
CALSCALE:GREGORIAN
X-WR-TIMEZONE:Australia/Sydney
BEGIN:VEVENT
DTSTART;TZID=Australia/Sydney:20131211T180000
DTEND;TZID=Australia/Sydney:20131211T203000
DTSTAMP:20131211T180000Z
UID:7e99cf87-f2d5-40a1-9fba-5e6d5c7f93fb
LOCATION:
SUMMARY;LANGUAGE=en-us:Year 6 Farewell/GraduationDinner
SEQUENCE:0
DESCRIPTION:
END:VEVENT
TRANSP:TRANSPARENT
END:VCALENDAR
