BEGIN:VCALENDAR
VERSION:2.0
PRODID:-//Department Of Education//0e939352-8b06-47bd-abf1-15f70575ad6d
BEGIN:VTIMEZONE
TZID:Australia/Sydney
TZURL:http://tzurl.org/zoneinfo-outlook/Australia/Sydney
X-LIC-LOCATION:Australia/Sydney
BEGIN:STANDARD
TZOFFSETFROM:+1100
TZOFFSETTO:+1000
TZNAME:AEST
DTSTART:19700405T030000
RRULE:FREQ=YEARLY;BYMONTH=4;BYDAY=1SU
END:STANDARD
BEGIN:DAYLIGHT
TZOFFSETFROM:+1000
TZOFFSETTO:+1100
TZNAME:AEDT
DTSTART:19701004T020000
RRULE:FREQ=YEARLY;BYMONTH=10;BYDAY=1SU
END:DAYLIGHT
END:VTIMEZONE
CALSCALE:GREGORIAN
X-WR-TIMEZONE:Australia/Sydney
BEGIN:VEVENT
DTSTART;TZID=Australia/Sydney:20130308T150000
DTEND;TZID=Australia/Sydney:20130308T160000
DTSTAMP:20130308T150000Z
UID:0947f560-112a-405c-8f09-581eaaace926
LOCATION:
SUMMARY;LANGUAGE=en-us:Karangi Afternoon Tea
SEQUENCE:0
DESCRIPTION:All parents and students welcome to stay to have afternoon with the teachers.
END:VEVENT
TRANSP:TRANSPARENT
END:VCALENDAR
