BEGIN:VCALENDAR
VERSION:2.0
PRODID:-//Department Of Education//a2559fc5-7f61-4e31-83e6-c13ffc574c5b
BEGIN:VTIMEZONE
TZID:Australia/Sydney
TZURL:http://tzurl.org/zoneinfo-outlook/Australia/Sydney
X-LIC-LOCATION:Australia/Sydney
BEGIN:STANDARD
TZOFFSETFROM:+1100
TZOFFSETTO:+1000
TZNAME:AEST
DTSTART:19700405T030000
RRULE:FREQ=YEARLY;BYMONTH=4;BYDAY=1SU
END:STANDARD
BEGIN:DAYLIGHT
TZOFFSETFROM:+1000
TZOFFSETTO:+1100
TZNAME:AEDT
DTSTART:19701004T020000
RRULE:FREQ=YEARLY;BYMONTH=10;BYDAY=1SU
END:DAYLIGHT
END:VTIMEZONE
CALSCALE:GREGORIAN
X-WR-TIMEZONE:Australia/Sydney
BEGIN:VEVENT
DTSTART;TZID=Australia/Sydney:20130306T090000
DTEND;TZID=Australia/Sydney:20130306T150000
DTSTAMP:20130306T090000Z
UID:0c72f1c7-9246-4090-bbbe-a0f63f516110
LOCATION:
SUMMARY;LANGUAGE=en-us:North Coast Swimming Carnival
SEQUENCE:0
DESCRIPTION:
END:VEVENT
TRANSP:TRANSPARENT
END:VCALENDAR
