BEGIN:VCALENDAR
VERSION:2.0
PRODID:-//Department Of Education//40395c41-85d7-4d5e-aa41-a9be4d455e48
BEGIN:VTIMEZONE
TZID:Australia/Sydney
TZURL:http://tzurl.org/zoneinfo-outlook/Australia/Sydney
X-LIC-LOCATION:Australia/Sydney
BEGIN:STANDARD
TZOFFSETFROM:+1100
TZOFFSETTO:+1000
TZNAME:AEST
DTSTART:19700405T030000
RRULE:FREQ=YEARLY;BYMONTH=4;BYDAY=1SU
END:STANDARD
BEGIN:DAYLIGHT
TZOFFSETFROM:+1000
TZOFFSETTO:+1100
TZNAME:AEDT
DTSTART:19701004T020000
RRULE:FREQ=YEARLY;BYMONTH=10;BYDAY=1SU
END:DAYLIGHT
END:VTIMEZONE
CALSCALE:GREGORIAN
X-WR-TIMEZONE:Australia/Sydney
BEGIN:VEVENT
DTSTART;VALUE=DATE:20130715
DTEND;VALUE=DATE:20130716
DTSTAMP:20130715T000000Z
UID:5d2c5987-f3b7-486c-a33a-dca7fe76eeec
LOCATION:
SUMMARY;LANGUAGE=en-us:Students return
SEQUENCE:0
DESCRIPTION:All students return to school.
END:VEVENT
TRANSP:TRANSPARENT
END:VCALENDAR
